BEGIN:VCALENDAR
VERSION:2.0
PRODID:-//Naturpark Öewersauer - ECPv5.8.1//NONSGML v1.0//EN
CALSCALE:GREGORIAN
METHOD:PUBLISH
X-WR-CALNAME:Naturpark Öewersauer
X-ORIGINAL-URL:https://www.naturpark-sure.lu/en/
X-WR-CALDESC:Events for Naturpark Öewersauer
BEGIN:VTIMEZONE
TZID:Europe/Luxembourg
BEGIN:DAYLIGHT
TZOFFSETFROM:+0100
TZOFFSETTO:+0200
TZNAME:CEST
DTSTART:20210328T010000
END:DAYLIGHT
BEGIN:STANDARD
TZOFFSETFROM:+0200
TZOFFSETTO:+0100
TZNAME:CET
DTSTART:20211031T010000
END:STANDARD
END:VTIMEZONE
BEGIN:VEVENT
DTSTART;TZID=Europe/Luxembourg:20210727T130000
DTEND;TZID=Europe/Luxembourg:20210727T170000
DTSTAMP:20210722T113039
CREATED:20210615T072738Z
LAST-MODIFIED:20210615T072738Z
UID:14119-1627390800-1627405200@www.naturpark-sure.lu
SUMMARY:Intergenerational workshop: Weaving
DESCRIPTION:A woven piece does not always have to be made of wool. In this workshop\, you can create your own woven piece and use a variety of materials. Just bring the material you would like to use in your weaving (different wools\, sisal\, fabric\, paper string\, wire\, natural materials\, small branches\, flowers…). There are no limits to your imagination. \nIn order to promote the togetherness of different generations\, we organise intergenerational workshops that are intended for both children and adults. Everyone from the age of 6 is welcome: Whether together with mother\, father\, grandma\, grandpa\, uncle\, aunt…
URL:https://www.naturpark-sure.lu/en/event/intergenerational-workshop-weaving/
LOCATION:Cloth Factory\, 15\, rue de Lultzhausen\, Esch-sur-Sûre\, L-9650\, Luxembourg
CATEGORIES:Workshop
ATTACH;FMTTYPE=image/jpeg:https://www.naturpark-sure.lu/wp-content/uploads/2021/06/Weben_Pixabay.jpg
ORGANIZER;CN="Naturpark%20%C3%96ewersauer":MAILTO:info@naturpark-sure.lu
GEO:49.907093;5.9303319
X-APPLE-STRUCTURED-LOCATION;VALUE=URI;X-ADDRESS=Cloth Factory 15 rue de Lultzhausen Esch-sur-Sûre L-9650 Luxembourg;X-APPLE-RADIUS=500;X-TITLE=15\, rue de Lultzhausen:geo:5.9303319,49.907093
END:VEVENT
END:VCALENDAR