BEGIN:VCALENDAR
VERSION:2.0
PRODID:-//Naturpark Öewersauer - ECPv5.4.0//NONSGML v1.0//EN
CALSCALE:GREGORIAN
METHOD:PUBLISH
X-WR-CALNAME:Naturpark Öewersauer
X-ORIGINAL-URL:https://www.naturpark-sure.lu
X-WR-CALDESC:Veranstaltungen für Naturpark Öewersauer
BEGIN:VTIMEZONE
TZID:Europe/Luxembourg
BEGIN:DAYLIGHT
TZOFFSETFROM:+0100
TZOFFSETTO:+0200
TZNAME:CEST
DTSTART:20210328T010000
END:DAYLIGHT
BEGIN:STANDARD
TZOFFSETFROM:+0200
TZOFFSETTO:+0100
TZNAME:CET
DTSTART:20211031T010000
END:STANDARD
END:VTIMEZONE
BEGIN:VEVENT
DTSTART;TZID=Europe/Luxembourg:20210728T100000
DTEND;TZID=Europe/Luxembourg:20210728T120000
DTSTAMP:20210423T050058
CREATED:20200330T125856Z
LAST-MODIFIED:20200330T125856Z
UID:13419-1627466400-1627473600@www.naturpark-sure.lu
SUMMARY:Als Naturpark-Entdecker auf Forschertour
DESCRIPTION:Bestens ausgerüstet mit den Entdecker-Westen sind die Kinder bereit für das Abenteuer Natur. Ausgestattet mit allen wichtigen Exkursionsmaterialien werden die Kinder zum selbstständigen Forschen und Entdecken der Natur angeregt und fühlen sich dabei wie echte Abenteurer. \nAnmeldung erforderlich! \nInformationen zum Veranstaltungsort erhalten Sie bei der Anmeldung.
URL:https://www.naturpark-sure.lu/event/als-naturpark-entdecker-auf-forschertour-3/2021-07-28/
LOCATION:Esch-Sauer\, Esch-Sauer\, 9650\, Luxemburg
CATEGORIES:Natur,Umweltbildung
ATTACH;FMTTYPE=image/jpeg:https://www.naturpark-sure.lu/wp-content/uploads/2020/03/RS4657_02082017Entdeckerwesten_88A02059180205-scr.jpg
ORGANIZER;CN="Naturpark%20%C3%96ewersauer":MAILTO:info@naturpark-sure.lu
END:VEVENT
END:VCALENDAR