BEGIN:VCALENDAR
VERSION:2.0
PRODID:-//Naturpark Öewersauer - ECPv5.8.1//NONSGML v1.0//EN
CALSCALE:GREGORIAN
METHOD:PUBLISH
X-WR-CALNAME:Naturpark Öewersauer
X-ORIGINAL-URL:https://www.naturpark-sure.lu
X-WR-CALDESC:Veranstaltungen für Naturpark Öewersauer
BEGIN:VTIMEZONE
TZID:Europe/Luxembourg
BEGIN:DAYLIGHT
TZOFFSETFROM:+0100
TZOFFSETTO:+0200
TZNAME:CEST
DTSTART:20210328T010000
END:DAYLIGHT
BEGIN:STANDARD
TZOFFSETFROM:+0200
TZOFFSETTO:+0100
TZNAME:CET
DTSTART:20211031T010000
END:STANDARD
END:VTIMEZONE
BEGIN:VEVENT
DTSTART;TZID=Europe/Luxembourg:20210806T200000
DTEND;TZID=Europe/Luxembourg:20210806T230000
DTSTAMP:20210722T113226
CREATED:20210615T073656Z
LAST-MODIFIED:20210615T073656Z
UID:14123-1628280000-1628290800@www.naturpark-sure.lu
SUMMARY:Ënnerwee duerch d’Nuecht
DESCRIPTION:Gemeinsam erleben und genießen wir die dunklen Abendstunden und tauchen in eine magische Welt ein. Lassen Sie sich überraschen und kommen Sie mit uns auf ein spannendes Abenteuer in die Natur. Für Familien und Kinder ab 6 Jahren. Bitte denken Sie an festes Schuhwerk. 
URL:https://www.naturpark-sure.lu/event/ennerwee-duerch-dnuecht-2/
LOCATION:Baschleiden\, Baschleiden\, 9633\, Luxemburg
CATEGORIES:Geführte Besichtigung,Natur
ATTACH;FMTTYPE=image/jpeg:https://www.naturpark-sure.lu/wp-content/uploads/2021/06/Ennerwee-duerch-dNuecht_c-Liz-Haken-scaled.jpg
ORGANIZER;CN="Naturpark%20%C3%96ewersauer":MAILTO:info@naturpark-sure.lu
END:VEVENT
END:VCALENDAR