BEGIN:VCALENDAR
VERSION:2.0
PRODID:-//Naturpark Öewersauer - ECPv5.8.1//NONSGML v1.0//EN
CALSCALE:GREGORIAN
METHOD:PUBLISH
X-WR-CALNAME:Naturpark Öewersauer
X-ORIGINAL-URL:https://www.naturpark-sure.lu
X-WR-CALDESC:Veranstaltungen für Naturpark Öewersauer
BEGIN:VTIMEZONE
TZID:Europe/Luxembourg
BEGIN:DAYLIGHT
TZOFFSETFROM:+0100
TZOFFSETTO:+0200
TZNAME:CEST
DTSTART:20210328T010000
END:DAYLIGHT
BEGIN:STANDARD
TZOFFSETFROM:+0200
TZOFFSETTO:+0100
TZNAME:CET
DTSTART:20211031T010000
END:STANDARD
END:VTIMEZONE
BEGIN:VEVENT
DTSTART;TZID=Europe/Luxembourg:20210727T130000
DTEND;TZID=Europe/Luxembourg:20210727T170000
DTSTAMP:20210722T113027
CREATED:20210615T072325Z
LAST-MODIFIED:20210615T072340Z
UID:14111-1627390800-1627405200@www.naturpark-sure.lu
SUMMARY:Generationenworkshop: Weben
DESCRIPTION:Ein Webstück muss nicht immer nur aus Wolle bestehen. In diesem Workshop können Sie ein eignes Webstück gestalten und die unterschiedlichsten Materialien gut in Szene setzten. Bringen sie einfach Material mit was Sie gerne in Ihrem Webstück verarbeiten möchten (verschiedene Wollen\, Sisal\, Stoff\, Papierschnüre\, Draht\, Naturmaterialien\, Kleine Äste\, Blumen…). Der Fantasie sind keine Grenzen gesetzt.  \nUm das Miteinander von verschiedenen Generationen zu fördern\, organisieren wir Generationsworkshops die sowohl für Kinder als auch Erwachsene gedacht sind. Jeder ab 6 Jahren ist willkommen: Egal ob zusammen mit Mutter\, Vater\, Oma\, Opa\, Onkel\, Tante…  
URL:https://www.naturpark-sure.lu/event/generationenworkshop-weben/
LOCATION:Tuchfabrik\, 15\, rue de Lultzhausen\, Esch/Sauer\, L-9650\, Luxembourg
CATEGORIES:Workshop
ATTACH;FMTTYPE=image/jpeg:https://www.naturpark-sure.lu/wp-content/uploads/2021/06/Weben_Pixabay.jpg
ORGANIZER;CN="Naturpark%20%C3%96ewersauer":MAILTO:info@naturpark-sure.lu
GEO:49.907093;5.9303319
X-APPLE-STRUCTURED-LOCATION;VALUE=URI;X-ADDRESS=Tuchfabrik 15 rue de Lultzhausen Esch/Sauer L-9650 Luxembourg;X-APPLE-RADIUS=500;X-TITLE=15\, rue de Lultzhausen:geo:5.9303319,49.907093
END:VEVENT
END:VCALENDAR