BEGIN:VCALENDAR
VERSION:2.0
PRODID:-//Naturpark Öewersauer - ECPv5.4.0//NONSGML v1.0//EN
CALSCALE:GREGORIAN
METHOD:PUBLISH
X-WR-CALNAME:Naturpark Öewersauer
X-ORIGINAL-URL:https://www.naturpark-sure.lu/fr/
X-WR-CALDESC:évènements pour Naturpark Öewersauer
BEGIN:VTIMEZONE
TZID:Europe/Luxembourg
BEGIN:DAYLIGHT
TZOFFSETFROM:+0100
TZOFFSETTO:+0200
TZNAME:CEST
DTSTART:20210328T010000
END:DAYLIGHT
BEGIN:STANDARD
TZOFFSETFROM:+0200
TZOFFSETTO:+0100
TZNAME:CET
DTSTART:20211031T010000
END:STANDARD
END:VTIMEZONE
BEGIN:VEVENT
DTSTART;TZID=Europe/Luxembourg:20210430T193000
DTEND;TZID=Europe/Luxembourg:20210430T223000
DTSTAMP:20210423T045351
CREATED:20200622T080713Z
LAST-MODIFIED:20210412T070608Z
UID:11609-1619811000-1619821800@www.naturpark-sure.lu
SUMMARY:Nuets am Bësch (COMPLET)
DESCRIPTION:Vivez et profitez avec nous des heures sombres pour plonger dans un monde magique. Laissez-vous surprendre et rejoignez-nous pour une aventure passionnante dans la nature. Pour les familles et les enfants à partir de 6 ans. Pensez s.v.p. à des chaussures solides.  Dans le cadre du festival „NIGHT\, Light & more”. \nInscription obligatoire!
URL:https://www.naturpark-sure.lu/fr/event/nuets-am-besch/
LOCATION:Baschleiden\, Baschleiden\, 9633\, Luxemburg
CATEGORIES:Éducation à l'environnement,Nature
ATTACH;FMTTYPE=image/jpeg:https://www.naturpark-sure.lu/wp-content/uploads/2020/06/landscape-4673303_640.jpg
ORGANIZER;CN="Naturpark%20%C3%96ewersauer":MAILTO:info@naturpark-sure.lu
END:VEVENT
END:VCALENDAR