BEGIN:VCALENDAR
VERSION:2.0
PRODID:-//Naturpark Öewersauer - ECPv5.8.1//NONSGML v1.0//EN
CALSCALE:GREGORIAN
METHOD:PUBLISH
X-WR-CALNAME:Naturpark Öewersauer
X-ORIGINAL-URL:https://www.naturpark-sure.lu/nl/
X-WR-CALDESC:Evenementen voor Naturpark Öewersauer
BEGIN:VTIMEZONE
TZID:Europe/Luxembourg
BEGIN:DAYLIGHT
TZOFFSETFROM:+0100
TZOFFSETTO:+0200
TZNAME:CEST
DTSTART:20210328T010000
END:DAYLIGHT
BEGIN:STANDARD
TZOFFSETFROM:+0200
TZOFFSETTO:+0100
TZNAME:CET
DTSTART:20211031T010000
END:STANDARD
END:VTIMEZONE
BEGIN:VEVENT
DTSTART;TZID=Europe/Luxembourg:20210926T140000
DTEND;TZID=Europe/Luxembourg:20210926T153000
DTSTAMP:20211009T065638
CREATED:20210730T094746Z
LAST-MODIFIED:20210730T094746Z
UID:14424-1632664800-1632670200@www.naturpark-sure.lu
SUMMARY:Guided tour St. Pirmin (LU)
DESCRIPTION:Guided tour on the new thematic trail\, which will be completed in summer 2021. Immerse yourself in the centuries-old history of this heritage site. Learn more about Saint Pirmin\, who gave the place its name\, and visit the spring and the chapel of Saint Pirmin. Also discover the remains of an old manor house dating back to the 12th century. \nThe guided tours take place as part of the European Heritage Days. \nDistance: approx. 1 km \nThe thematic trail is suitable for pushchairs except for a short section (in which case an alternative route is indicated). \nRegistration required!
URL:https://www.naturpark-sure.lu/nl/event/guided-tour-st-pirmin-lu/2021-09-26/
LOCATION:Përmesknupp\, Kaundorf\, Luxemburg
CATEGORIES:Rondleiding
ATTACH;FMTTYPE=image/jpeg:https://www.naturpark-sure.lu/wp-content/uploads/2021/07/RS8959_27052020CaroLineM0027_DSC5505-scr.jpg
GEO:49.9212073;5.9013353
END:VEVENT
END:VCALENDAR