BEGIN:VCALENDAR
VERSION:2.0
PRODID:-//Naturpark Öewersauer - ECPv5.4.0//NONSGML v1.0//EN
CALSCALE:GREGORIAN
METHOD:PUBLISH
X-WR-CALNAME:Naturpark Öewersauer
X-ORIGINAL-URL:https://www.naturpark-sure.lu/nl/
X-WR-CALDESC:Evenementen voor Naturpark Öewersauer
BEGIN:VTIMEZONE
TZID:Europe/Luxembourg
BEGIN:DAYLIGHT
TZOFFSETFROM:+0100
TZOFFSETTO:+0200
TZNAME:CEST
DTSTART:20210328T010000
END:DAYLIGHT
BEGIN:STANDARD
TZOFFSETFROM:+0200
TZOFFSETTO:+0100
TZNAME:CET
DTSTART:20211031T010000
END:STANDARD
END:VTIMEZONE
BEGIN:VEVENT
DTSTART;TZID=Europe/Luxembourg:20210430T193000
DTEND;TZID=Europe/Luxembourg:20210430T223000
DTSTAMP:20210423T050010
CREATED:20200622T081808Z
LAST-MODIFIED:20210412T070654Z
UID:11611-1619811000-1619821800@www.naturpark-sure.lu
SUMMARY:Nuets am Bësch (FULLY BOOKED)
DESCRIPTION:Together we experience and enjoy the dark evening hours and dive into a magical world. Be surprised and come with us on an exciting adventure in nature. For families and children from 6 years. Please remember to wear sturdy shoes. \nIn the framework of the „NIGHT\, Light & more” festival. \nRegistration required!
URL:https://www.naturpark-sure.lu/nl/event/nuets-am-besch/
LOCATION:Baschleiden\, Baschleiden\, 9633\, Luxemburg
CATEGORIES:Milieueducatie,Natuur
ATTACH;FMTTYPE=image/jpeg:https://www.naturpark-sure.lu/wp-content/uploads/2020/06/landscape-4673303_640.jpg
ORGANIZER;CN="Naturpark%20%C3%96ewersauer":MAILTO:info@naturpark-sure.lu
END:VEVENT
END:VCALENDAR