BEGIN:VCALENDAR
VERSION:2.0
PRODID:-//Naturpark Öewersauer - ECPv5.4.0//NONSGML v1.0//EN
CALSCALE:GREGORIAN
METHOD:PUBLISH
X-WR-CALNAME:Naturpark Öewersauer
X-ORIGINAL-URL:https://www.naturpark-sure.lu/nl/
X-WR-CALDESC:Evenementen voor Naturpark Öewersauer
BEGIN:VTIMEZONE
TZID:Europe/Luxembourg
BEGIN:DAYLIGHT
TZOFFSETFROM:+0100
TZOFFSETTO:+0200
TZNAME:CEST
DTSTART:20210328T010000
END:DAYLIGHT
BEGIN:STANDARD
TZOFFSETFROM:+0200
TZOFFSETTO:+0100
TZNAME:CET
DTSTART:20211031T010000
END:STANDARD
END:VTIMEZONE
BEGIN:VEVENT
DTSTART;TZID=Europe/Luxembourg:20210417T100000
DTEND;TZID=Europe/Luxembourg:20210417T170000
DTSTAMP:20210423T045802
CREATED:20201113T101343Z
LAST-MODIFIED:20210308T101031Z
UID:12608-1618653600-1618678800@www.naturpark-sure.lu
SUMMARY:Textile workshop - felting for adults (FULLY BOOKED)
DESCRIPTION:Making an object from felt is a magical process. Starting from carded (not spun) wool\, such as cotton\, we finally arrive at a solid textile. In the meantime\, you will be able to integrate all your ideas and wishes: colours\, patterns\, shapes\, small\, large\, round\, long pouches\, round\, pointed\, horned hats… The course instructor\, Véronique Corman\, will be at your disposal to advise you. \nYou will need to bring: – A bucket – A kettle – A waterproof apron (if you have one) – A sponge – A kitchen towel – Your picnic \nRegistration is required!
URL:https://www.naturpark-sure.lu/nl/event/textile-workshop-felting-for-adults/
LOCATION:Lakenfabriek\, 15\, rue de Lultzhausen\, Esch-sur-Sûre\, L-9650\, Luxembourg
CATEGORIES:Workshop
ATTACH;FMTTYPE=image/jpeg:https://www.naturpark-sure.lu/wp-content/uploads/2020/11/DSC_0014-scaled-e1605262020219.jpg
ORGANIZER;CN="Naturpark%20%C3%96ewersauer":MAILTO:info@naturpark-sure.lu
END:VEVENT
END:VCALENDAR