BEGIN:VCALENDAR
VERSION:2.0
PRODID:-//Naturpark Öewersauer - ECPv5.4.0//NONSGML v1.0//EN
CALSCALE:GREGORIAN
METHOD:PUBLISH
X-WR-CALNAME:Naturpark Öewersauer
X-ORIGINAL-URL:https://www.naturpark-sure.lu/nl/
X-WR-CALDESC:Evenementen voor Naturpark Öewersauer
BEGIN:VTIMEZONE
TZID:Europe/Luxembourg
BEGIN:DAYLIGHT
TZOFFSETFROM:+0100
TZOFFSETTO:+0200
TZNAME:CEST
DTSTART:20210328T010000
END:DAYLIGHT
BEGIN:STANDARD
TZOFFSETFROM:+0200
TZOFFSETTO:+0100
TZNAME:CET
DTSTART:20211031T010000
END:STANDARD
END:VTIMEZONE
BEGIN:VEVENT
DTSTART;TZID=Europe/Luxembourg:20210509T103000
DTEND;TZID=Europe/Luxembourg:20210509T170000
DTSTAMP:20210423T050024
CREATED:20200317T131107Z
LAST-MODIFIED:20210422T180102Z
UID:9259-1620556200-1620579600@www.naturpark-sure.lu
SUMMARY:Waasserfest
DESCRIPTION:A different kind of Waasserfest in the Öewersauer Nature Park: \nDue to well-known reasons\, the Waasserfest cannot take place as usual. As an alternative\, we offer you various workshops and activities around the theme of water\, distributed throughout the municipalities of the Nature Park. There is something for everyone: for the big ones\, the small ones\, the sporty ones\, those interested in culture\, explorers\, nature lovers\,… \nChoose your favourite activities and book your place in advance.
URL:https://www.naturpark-sure.lu/nl/event/waasserfest/
LOCATION:Lakenfabriek\, 15\, rue de Lultzhausen\, Esch-sur-Sûre\, L-9650\, Luxembourg
CATEGORIES:Informatie event,Milieueducatie,Natuur,Vermaak
ATTACH;FMTTYPE=image/jpeg:https://www.naturpark-sure.lu/wp-content/uploads/2020/03/RS2802_20032016Wasserfest_MG_71574127157-scr.jpg
ORGANIZER;CN="Naturpark%20%C3%96ewersauer":MAILTO:info@naturpark-sure.lu
END:VEVENT
END:VCALENDAR